BEGIN:VCALENDAR
VERSION:2.0
PRODID:-//ELITE FC Soccer Club | Albuquerque, NM - ECPv4.6.21//NONSGML v1.0//EN
CALSCALE:GREGORIAN
METHOD:PUBLISH
X-WR-CALNAME:ELITE FC Soccer Club | Albuquerque, NM
X-ORIGINAL-URL:http://www.elitefc.com
X-WR-CALDESC:Events for ELITE FC Soccer Club | Albuquerque, NM
BEGIN:VEVENT
DTSTART;VALUE=DATE:20180808
DTEND;VALUE=DATE:20180809
DTSTAMP:20260425T114305
CREATED:20180731T035738Z
LAST-MODIFIED:20180731T035838Z
UID:2812-1533686400-1533772799@www.elitefc.com
SUMMARY:ENTRY DEADLINE for Elite Blast 2018 & U7/8 Elite Festival & Blast Tournament
DESCRIPTION:ELITE FC PRESENTS TWO TOP-NOTCH FALL 2018 EVENTS \nElite Blast 2018 & U7/8 Elite Festival & Blast Tournament\n@ the New Mexico Soccer Tournament Soccer Complex. \nENTRY DEADLINE – Wednesday\, August 8th 2018 \n
URL:http://www.elitefc.com/event/entry-deadline-for-elite-blast-2018-u7-8-elite-festival-blast-tournament/
END:VEVENT
END:VCALENDAR